BEGIN:VCALENDAR
VERSION:2.0
PRODID:-//Squarespace Inc/Squarespace 6//v6//EN
BEGIN:VEVENT
UID:56e61b051bbee01578effdfb@squarespace.com
DTSTAMP:20160408T205940Z
DTSTART:20160215T050000Z
DTEND:20160215T050000Z
SUMMARY:- SOLD OUT - Yoga Basic's Course | 15th Feb - 21st March
END:VEVENT
END:VCALENDAR
