BEGIN:VCALENDAR
VERSION:2.0
PRODID:-//Squarespace Inc/Squarespace 6//v6//EN
BEGIN:VEVENT
UID:583baa1bb8a79b774fbed41c@squarespace.com
DTSTAMP:20170126T051659Z
DTSTART:20170201T050000Z
DTEND:20170201T060000Z
SUMMARY:-SOLD OUT -  Yoga Basics - 6 week Beginners Yoga Course
END:VEVENT
END:VCALENDAR
