BEGIN:VCALENDAR
VERSION:2.0
PRODID:-//Squarespace Inc/Squarespace 6//v6//EN
BEGIN:VEVENT
UID:588ba8a4db29d666b8952762@squarespace.com
DTSTAMP:20170312T231108Z
DTSTART:20170315T050000Z
DTEND:20170315T060000Z
SUMMARY:-SOLD OUT- Yoga Basics - 6 week beginners yoga series
END:VEVENT
END:VCALENDAR
