BEGIN:VCALENDAR
VERSION:2.0
PRODID:-//Squarespace Inc/Squarespace 6//v6//EN
BEGIN:VEVENT
UID:5a209eddc8302566a3aae256@squarespace.com
DTSTAMP:20171201T002749Z
DTSTART:20180110T050000Z
DTEND:20180110T060000Z
SUMMARY:Yoga Basics - 6 week beginner yoga series 
END:VEVENT
END:VCALENDAR
