BEGIN:VCALENDAR
VERSION:2.0
PRODID:-//Squarespace Inc/Squarespace 6//v6//EN
BEGIN:VEVENT
UID:5a94805a8165f5c601e9f561@squarespace.com
DTSTAMP:20180226T215020Z
DTSTART:20180404T060000Z
DTEND:20180404T070000Z
SUMMARY:Yoga Basics - 6 week Beginner Yoga Series 
END:VEVENT
END:VCALENDAR
