BEGIN:VCALENDAR
VERSION:2.0
PRODID:-//Squarespace Inc/Squarespace 6//v6//EN
BEGIN:VEVENT
UID:592debc915cf7d1205e15556@squarespace.com
DTSTAMP:20170716T203830Z
DTSTART:20170719T060000Z
DTEND:20170719T070000Z
SUMMARY:- SOLD OUT - Yoga Basics - 6 week beginner yoga series 
END:VEVENT
END:VCALENDAR
