BEGIN:VCALENDAR
VERSION:2.0
PRODID:-//Squarespace Inc/Squarespace 6//v6//EN
BEGIN:VEVENT
UID:59b5b86a9f7456da59bac660@squarespace.com
DTSTAMP:20170910T221530Z
DTSTART:20171011T050000Z
DTEND:20171011T060000Z
SUMMARY:Yoga Basics - 6 week beginner yoga series
END:VEVENT
END:VCALENDAR
