BEGIN:VCALENDAR
VERSION:2.0
PRODID:-//Squarespace Inc/Squarespace 6//v6//EN
BEGIN:VEVENT
UID:56e64faad210b8a4c7f82bd0@squarespace.com
DTSTAMP:20160408T205954Z
DTSTART:20160404T060000Z
DTEND:20160404T071500Z
SUMMARY:- SOLD OUT - Yoga Basics Course | 4th April - 9th May
END:VEVENT
END:VCALENDAR
