BEGIN:VCALENDAR
VERSION:2.0
PRODID:-//Squarespace Inc/Squarespace 6//v6//EN
BEGIN:VEVENT
UID:5b0c7321352f53c0a54bf848@squarespace.com
DTSTAMP:20180528T213909Z
DTSTART:20180624T013000Z
DTEND:20180624T033000Z
SUMMARY:Yoga Nidra for Wellbeing Workshop 
END:VEVENT
END:VCALENDAR
