BEGIN:VCALENDAR
VERSION:2.0
PRODID:-//Squarespace Inc/Squarespace 6//v6//EN
BEGIN:VEVENT
UID:5ae84ca3f950b72721528e9d@squarespace.com
DTSTAMP:20180501T112514Z
DTSTART:20180521T041500Z
DTEND:20180521T051500Z
SUMMARY:Yoga for Young People (11-15 years) - new course! 
END:VEVENT
END:VCALENDAR
