BEGIN:VCALENDAR
VERSION:2.0
PRODID:-//Squarespace Inc/Squarespace 6//v6//EN
BEGIN:VEVENT
UID:5b0dcec3575d1f59621773e8@squarespace.com
DTSTAMP:20180529T221318Z
DTSTART:20180706T230000Z
DTEND:20180707T040000Z
SUMMARY:Yoga\, Food & Chill 
END:VEVENT
END:VCALENDAR
