BEGIN:VCALENDAR
VERSION:2.0
PRODID:-//Squarespace Inc/Squarespace 6//v6//EN
BEGIN:VEVENT
UID:5b580e1003ce643e1054fec0@squarespace.com
DTSTAMP:20180806T024730Z
DTSTART:20180831T230000Z
DTEND:20180901T040000Z
SUMMARY:Yoga\, Food & Chill 
END:VEVENT
END:VCALENDAR
