BEGIN:VCALENDAR
VERSION:2.0
PRODID:-//Squarespace Inc/Squarespace 6//v6//EN
BEGIN:VEVENT
UID:590ba19546c3c4d418be9004@squarespace.com
DTSTAMP:20170605T235806Z
DTSTART:20170607T060000Z
DTEND:20170607T070000Z
SUMMARY:| SOLD OUT | Yoga Basics - 6 week beginners yoga series 
END:VEVENT
END:VCALENDAR
