BEGIN:VCALENDAR
VERSION:2.0
PRODID:-//Squarespace Inc/Squarespace 6//v6//EN
BEGIN:VEVENT
UID:5b580ce488251ba39477d402@squarespace.com
DTSTAMP:20180725T211320Z
DTSTART:20180926T060000Z
DTEND:20180926T070000Z
SUMMARY:Yoga Basics - 6 week beginner yoga series 
END:VEVENT
END:VCALENDAR
