BEGIN:VCALENDAR
VERSION:2.0
PRODID:-//Squarespace Inc/Squarespace 6//v6//EN
BEGIN:VEVENT
UID:5ac29f036d2a73ce4237d41c@squarespace.com
DTSTAMP:20180402T213118Z
DTSTART:20180523T060000Z
DTEND:20180523T070000Z
SUMMARY:Yoga Basics - 6 week Beginner Yoga Series
END:VEVENT
END:VCALENDAR
