BEGIN:VCALENDAR
VERSION:2.0
PRODID:-//Squarespace Inc/Squarespace 6//v6//EN
BEGIN:VEVENT
UID:59825f5e6b8f5bdb6eb047e9@squarespace.com
DTSTAMP:20170815T112935Z
DTSTART:20170914T074500Z
DTEND:20170914T084500Z
SUMMARY:Yoga Basics Level 2 - Intro to Vinyasa 
END:VEVENT
END:VCALENDAR
