BEGIN:VCALENDAR
VERSION:2.0
PRODID:-//Squarespace Inc/Squarespace 6//v6//EN
BEGIN:VEVENT
UID:5b0c758888251baf567aa618@squarespace.com
DTSTAMP:20180528T213933Z
DTSTART:20180704T060000Z
DTEND:20180704T070000Z
SUMMARY:Yoga Basics - Beginner yoga series 
END:VEVENT
END:VCALENDAR
