BEGIN:VCALENDAR
VERSION:2.0
PRODID:-//Squarespace Inc/Squarespace 6//v6//EN
BEGIN:VEVENT
UID:58c75dc01b631be853faae88@squarespace.com
DTSTAMP:20170314T034055Z
DTSTART:20170426T060000Z
DTEND:20170426T070000Z
SUMMARY:Yoga Basics - 6 week beginners yoga series 
END:VEVENT
END:VCALENDAR
