BEGIN:VCALENDAR
VERSION:2.0
PRODID:-//Squarespace Inc/Squarespace 6//v6//EN
BEGIN:VEVENT
UID:597b0d44893fc0424c558a46@squarespace.com
DTSTAMP:20170803T000221Z
DTSTART:20170830T060000Z
DTEND:20170830T070000Z
SUMMARY:Yoga Basics - 6 week beginner yoga series
END:VEVENT
END:VCALENDAR
