BEGIN:VCALENDAR
VERSION:2.0
PRODID:-//Squarespace Inc/Squarespace 6//v6//EN
BEGIN:VEVENT
UID:5a5e62d5085229e66f254afe@squarespace.com
DTSTAMP:20180116T204231Z
DTSTART:20180221T050000Z
DTEND:20180221T060000Z
SUMMARY:Yoga Basics - 6 week beginner yoga series  
END:VEVENT
END:VCALENDAR
