BEGIN:VCALENDAR
VERSION:2.0
PRODID:-//Squarespace Inc/Squarespace 6//v6//EN
BEGIN:VEVENT
UID:571ff1f3b654f9a9616c69db@squarespace.com
DTSTAMP:20160513T202456Z
DTSTART:20160514T020000Z
DTEND:20160514T043000Z
SUMMARY:- SOLD OUT - Yin & Tonic
END:VEVENT
END:VCALENDAR
