BEGIN:VCALENDAR
VERSION:2.0
PRODID:-//Squarespace Inc/Squarespace 6//v6//EN
BEGIN:VEVENT
UID:58c5cfe1414fb5f3a76f0e31@squarespace.com
DTSTAMP:20170314T021437Z
DTSTART:20170422T020000Z
DTEND:20170422T043000Z
SUMMARY:Yin Yoga Workshop - with Belle Jansen 
END:VEVENT
END:VCALENDAR
