BEGIN:VCALENDAR
VERSION:2.0
PRODID:-//Squarespace Inc/Squarespace 6//v6//EN
BEGIN:VEVENT
UID:592de7e9725e25d1a6c1ce57@squarespace.com
DTSTAMP:20170615T010859Z
DTSTART:20170618T183000Z
DTEND:20170618T194500Z
SUMMARY:Winter Solstice & Dark Moon Intensive
END:VEVENT
END:VCALENDAR
