BEGIN:VCALENDAR
VERSION:2.0
PRODID:-//Squarespace Inc/Squarespace 6//v6//EN
BEGIN:VEVENT
UID:56e6368fa3360c0927386e0e@squarespace.com
DTSTAMP:20160314T054723Z
DTSTART:20160122T040000Z
DTEND:20160124T050000Z
SUMMARY:Weekend Yoga Blend Cleanse
END:VEVENT
END:VCALENDAR
