BEGIN:VCALENDAR
VERSION:2.0
PRODID:-//Squarespace Inc/Squarespace 6//v6//EN
BEGIN:VEVENT
UID:56e61d2986db433480197cd7@squarespace.com
DTSTAMP:20160314T054712Z
DTSTART:20160203T190000Z
DTEND:20160207T030000Z
SUMMARY:Wanderlust Great Lake Taupo 2016
END:VEVENT
END:VCALENDAR
