BEGIN:VCALENDAR
VERSION:2.0
PRODID:-//Squarespace Inc/Squarespace 6//v6//EN
BEGIN:VEVENT
UID:59d19f151f318d980f0f0c41@squarespace.com
DTSTAMP:20171002T023237Z
DTSTART:20171026T064500Z
DTEND:20171026T074500Z
SUMMARY:The Gift of Presence: A practical introduction to mindfulness 
END:VEVENT
END:VCALENDAR
