BEGIN:VCALENDAR
VERSION:2.0
PRODID:-//Squarespace Inc/Squarespace 6//v6//EN
BEGIN:VEVENT
UID:57fb3cefcd0f68a69b4e36ea@squarespace.com
DTSTAMP:20161105T035201Z
DTSTART:20161105T193000Z
DTEND:20161105T213000Z
SUMMARY:- SOLD OUT - Sunday Sweat Session!
END:VEVENT
END:VCALENDAR
