BEGIN:VCALENDAR
VERSION:2.0
PRODID:-//Squarespace Inc/Squarespace 6//v6//EN
BEGIN:VEVENT
UID:584e30e0b8a79bf389eb28a1@squarespace.com
DTSTAMP:20161212T070406Z
DTSTART:20161212T053000Z
DTEND:20170131T063000Z
SUMMARY:Unlimited Summer Yoga Special
END:VEVENT
END:VCALENDAR
