BEGIN:VCALENDAR
VERSION:2.0
PRODID:-//Squarespace Inc/Squarespace 6//v6//EN
BEGIN:VEVENT
UID:56e63869356fb03943281f03@squarespace.com
DTSTAMP:20160314T054801Z
DTSTART:20151101T043000Z
DTEND:20151130T053000Z
SUMMARY:Spring into Summer
END:VEVENT
END:VCALENDAR
