BEGIN:VCALENDAR
VERSION:2.0
PRODID:-//Squarespace Inc/Squarespace 6//v6//EN
BEGIN:VEVENT
UID:57e72020ebbd1a49b79980fc@squarespace.com
DTSTAMP:20160925T010701Z
DTSTART:20161114T050000Z
DTEND:20161114T060000Z
SUMMARY:Yoga Basics 6 Week Course - Starts Monday 14th November
END:VEVENT
END:VCALENDAR
