BEGIN:VCALENDAR
VERSION:2.0
PRODID:-//Squarespace Inc/Squarespace 6//v6//EN
BEGIN:VEVENT
UID:5d901fa01d22d17645299f28@squarespace.com
DTSTAMP:20191002T005337Z
DTSTART:20191104T204500Z
DTEND:20191209T221500Z
SUMMARY:Restorative Yoga | 6 Week Course
END:VEVENT
END:VCALENDAR
