BEGIN:VCALENDAR
VERSION:2.0
PRODID:-//Squarespace Inc/Squarespace 6//v6//EN
BEGIN:VEVENT
UID:5db26051dc55123d1366a3ad@squarespace.com
DTSTAMP:20191026T200533Z
DTSTART:20191123T220000Z
DTEND:20191124T010000Z
SUMMARY:Face Yoga Workshop
END:VEVENT
END:VCALENDAR
