BEGIN:VCALENDAR
VERSION:2.0
PRODID:-//Squarespace Inc/Squarespace 6//v6//EN
BEGIN:VEVENT
UID:589a6c35d2b857e896b7ba3c@squarespace.com
DTSTAMP:20170216T202722Z
DTSTART:20170219T220000Z
DTEND:20170219T230000Z
SUMMARY:Mums + Bubs Yoga - 8 week course 
END:VEVENT
END:VCALENDAR
