BEGIN:VCALENDAR
VERSION:2.0
PRODID:-//Squarespace Inc/Squarespace 6//v6//EN
BEGIN:VEVENT
UID:592ded08f7e0abd9d2e8fafa@squarespace.com
DTSTAMP:20170803T000100Z
DTSTART:20170806T230000Z
DTEND:20170807T000000Z
SUMMARY:Mums+Bubs Yoga 
END:VEVENT
END:VCALENDAR
