BEGIN:VCALENDAR
VERSION:2.0
PRODID:-//Squarespace Inc/Squarespace 6//v6//EN
BEGIN:VEVENT
UID:5a209d08e4966be2ad725a87@squarespace.com
DTSTAMP:20180207T192638Z
DTSTART:20180211T220000Z
DTEND:20180211T230000Z
SUMMARY:Mums + Bubs Yoga - FULLY BOOKED 
END:VEVENT
END:VCALENDAR
