BEGIN:VCALENDAR
VERSION:2.0
PRODID:-//Squarespace Inc/Squarespace 6//v6//EN
BEGIN:VEVENT
UID:5a80e16624a694ef195cce00@squarespace.com
DTSTAMP:20180212T003939Z
DTSTART:20180506T230000Z
DTEND:20180507T000000Z
SUMMARY:Mums + Bubs Yoga Course 
END:VEVENT
END:VCALENDAR
