BEGIN:VCALENDAR
VERSION:2.0
PRODID:-//Squarespace Inc/Squarespace 6//v6//EN
BEGIN:VEVENT
UID:5add660a8a922d433d08cbbc@squarespace.com
DTSTAMP:20180424T053412Z
DTSTART:20180507T003000Z
DTEND:20180507T013000Z
SUMMARY:Mums + Bubs Yoga Course - new time! 
END:VEVENT
END:VCALENDAR
