BEGIN:VCALENDAR
VERSION:2.0
PRODID:-//Squarespace Inc/Squarespace 6//v6//EN
BEGIN:VEVENT
UID:5b580b22575d1fdd10df4ac9@squarespace.com
DTSTAMP:20180725T053818Z
DTSTART:20180730T230000Z
DTEND:20180731T000000Z
SUMMARY:Mums + Bubs Yoga - Extra Course! 
END:VEVENT
END:VCALENDAR
