BEGIN:VCALENDAR
VERSION:2.0
PRODID:-//Squarespace Inc/Squarespace 6//v6//EN
BEGIN:VEVENT
UID:58e1aea92e69cfd46ac61ed6@squarespace.com
DTSTAMP:20170403T021540Z
DTSTART:20170514T230000Z
DTEND:20170515T000000Z
SUMMARY:Mums+Bubs Yoga  
END:VEVENT
END:VCALENDAR
