BEGIN:VCALENDAR
VERSION:2.0
PRODID:-//Squarespace Inc/Squarespace 6//v6//EN
BEGIN:VEVENT
UID:57c27b8a29687f7891e7c02c@squarespace.com
DTSTAMP:20160913T211137Z
DTSTART:20160914T060000Z
DTEND:20160914T070000Z
SUMMARY:Meet your Mind - Meditation Basics Course
END:VEVENT
END:VCALENDAR
