BEGIN:VCALENDAR
VERSION:2.0
PRODID:-//Squarespace Inc/Squarespace 6//v6//EN
BEGIN:VEVENT
UID:58e1aba4579fb35c6988518a@squarespace.com
DTSTAMP:20170403T022019Z
DTSTART:20170508T033000Z
DTEND:20170508T041500Z
SUMMARY:Kids Yoga - Term 2 - 8th May-3rd July\, Monday 3.30-4.15pm 
END:VEVENT
END:VCALENDAR
