BEGIN:VCALENDAR
VERSION:2.0
PRODID:-//Squarespace Inc/Squarespace 6//v6//EN
BEGIN:VEVENT
UID:5a209af0c8302566a3aa3067@squarespace.com
DTSTAMP:20180130T063550Z
DTSTART:20180212T031500Z
DTEND:20180212T040000Z
SUMMARY:Kids Yoga Course - 2018 Term 1
END:VEVENT
END:VCALENDAR
