BEGIN:VCALENDAR
VERSION:2.0
PRODID:-//Squarespace Inc/Squarespace 6//v6//EN
BEGIN:VEVENT
UID:5cfd91a8bc7b3a0001471a09@squarespace.com
DTSTAMP:20190929T030608Z
DTSTART:20190717T061500Z
DTEND:20190821T071500Z
SUMMARY:Somatics with Haidee Stairmand
END:VEVENT
END:VCALENDAR
