BEGIN:VCALENDAR
VERSION:2.0
PRODID:-//Squarespace Inc/Squarespace 6//v6//EN
BEGIN:VEVENT
UID:56f20ffb62cd94938d9feee1@squarespace.com
DTSTAMP:20160402T041918Z
DTSTART:20160416T010000Z
DTEND:20160416T030000Z
SUMMARY:Irene Ais - AcroYoga Workshop
END:VEVENT
END:VCALENDAR
