BEGIN:VCALENDAR
VERSION:2.0
PRODID:-//Squarespace Inc/Squarespace 6//v6//EN
BEGIN:VEVENT
UID:587c072bebbd1ab22e0589a9@squarespace.com
DTSTAMP:20170116T033715Z
DTSTART:20170224T053000Z
DTEND:20170224T070000Z
SUMMARY:Flight School #1 - with Janine Croft
END:VEVENT
END:VCALENDAR
