BEGIN:VCALENDAR
VERSION:2.0
PRODID:-//Squarespace Inc/Squarespace 6//v6//EN
BEGIN:VEVENT
UID:590ba75a3e00bed2704bc095@squarespace.com
DTSTAMP:20170504T232007Z
DTSTART:20170526T063000Z
DTEND:20170526T080000Z
SUMMARY:Flight School #4 - with Janine Croft 
END:VEVENT
END:VCALENDAR
