BEGIN:VCALENDAR
VERSION:2.0
PRODID:-//Squarespace Inc/Squarespace 6//v6//EN
BEGIN:VEVENT
UID:58e6b05e1b631be056ba4bc6@squarespace.com
DTSTAMP:20170406T212429Z
DTSTART:20170428T063000Z
DTEND:20170428T080000Z
SUMMARY:Flight School #3 - with Janine Croft 
END:VEVENT
END:VCALENDAR
