BEGIN:VCALENDAR
VERSION:2.0
PRODID:-//Squarespace Inc/Squarespace 6//v6//EN
BEGIN:VEVENT
UID:5b1deb2170a6ad6522939a66@squarespace.com
DTSTAMP:20180726T031510Z
DTSTART:20180903T210000Z
DTEND:20180904T050000Z
SUMMARY:Intro to EYP Workshop - by Mark Walsh 
END:VEVENT
END:VCALENDAR
