BEGIN:VCALENDAR
VERSION:2.0
PRODID:-//Squarespace Inc/Squarespace 6//v6//EN
BEGIN:VEVENT
UID:56e7c83101dbae0880020cd2@squarespace.com
DTSTAMP:20160324T182614Z
DTSTART:20160410T003000Z
DTEND:20160410T033000Z
SUMMARY:Emotions in Yoga: A Workshop
END:VEVENT
END:VCALENDAR
