BEGIN:VCALENDAR
VERSION:2.0
PRODID:-//Squarespace Inc/Squarespace 6//v6//EN
BEGIN:VEVENT
UID:56e61a5af699bb9717427793@squarespace.com
DTSTAMP:20160623T103827Z
DTSTART:20160312T000000Z
DTEND:20160312T030000Z
SUMMARY:-SOLD OUT- Embracing Autumn
END:VEVENT
END:VCALENDAR
